BEGIN:VCALENDAR
VERSION:2.0
PRODID:-//Sabre//Sabre VObject 4.5.8//EN
CALSCALE:GREGORIAN
BEGIN:VEVENT
UID:sabre-vobject-0ab1338c-e61d-4f9a-bff3-c4d52fbd9ce5
DTSTAMP:20260419T145559Z
SUMMARY:Frühlingskonzert Musikverein Harmonie Rickenbach und Brass Band Wi
 len
DESCRIPTION:Der Musikverein Harmonie Rickenbach und die Brass Band Wilen f
 ühren zusammen in der Kirche St. Verena Rickenbach TG das Frühlingskonze
 rt durch. Dieses findet am 25.04.2026 statt. Aktuelle Informationen gibt e
 s auf www.mvr.ch. Wir freuen uns auf deinen Besuch.
LOCATION:Rickenbach\, 9532 Rickenbach b. Wil
DTSTART;TZID=Europe/Zurich:20260425T190000
DTEND;TZID=Europe/Zurich:20260425T203000
ORGANIZER:Musikverein Harmonie Rickenbach
END:VEVENT
END:VCALENDAR
