BEGIN:VCALENDAR
VERSION:2.0
PRODID:-//Sabre//Sabre VObject 4.5.8//EN
CALSCALE:GREGORIAN
BEGIN:VEVENT
UID:sabre-vobject-02fc765f-6602-415d-bf78-ce65c0191017
DTSTAMP:20260421T032848Z
SUMMARY:28. Weinfest Berlingen
DESCRIPTION:Müller-Thurgau und Blauburgunder kennen alle\, aber am Weinfes
 t Berlingen gibt es ausserdem noch Grüner Veltliner\, Heida\, Gamaret\, Z
 weigelt\, Pinot Gris und Garanoir zu probieren. Das sind die Rebsorten\, a
 us denen die Winzerin Liselotte Füllemann und die Winzerfamilie Kathrin u
 nd Jakob Meier beste Berlinger Weine keltern. Der Reb- und Weinbau hat in 
 Berlingen eine jahrhundertealte Tradition. Er prägt nicht nur die Landsch
 aft am Untersee\, er überzeugt auch Jahr für Jahr mit edlen Weinen. \nB
 erlinger Vereine bereiten ihre Beizli für das 28. Weinfest Berlingen vor 
 und öffnen ihre die Tore zu einem Fest im Dorf. Die Besucherinnen und Bes
 ucher erwartet ein vielfältiges kulinarisches Angebot für alle Geschmack
 snerven. Überall wird fein gekocht und dazu feinster Berlinger Wein krede
 nzt. Die Berlingerinnen und Berlinger freuen sich auf viele Besucher:innen
  von nah und fern\, um zusammen den hiesigen Wein zu feiern. \nZu einem g
 eselligen Fest gehört auch eine entsprechende Unterhaltung. Ein detaillie
 rtes Programm dazu und ein Beizenplan erscheint kurz vor dem Fest auf www.
 dorfverein-berlingen.ch.\nAm Weinfest kann gebührenfrei parkiert werden. 
 Ausflugsfreudigen Besucherinnen und Besuchern wird empfohlen\, mit dem Sch
 iff anzureisen und für die Heimfahrt die Bahn im Halbstundentakt zu nutze
 n. So kann das charmante Flair des 28. Berlinger Weinfests in vollen Züge
 n genossen werden. \n 
LOCATION:Dorfgebiet\, 8267 Berlingen
DTSTART;TZID=Europe/Zurich:20260905T160000
DTEND;TZID=Europe/Zurich:20260905T235900
ORGANIZER:Dorfverein Berlingen
END:VEVENT
END:VCALENDAR
