BEGIN:VCALENDAR
VERSION:2.0
PRODID:-//Sabre//Sabre VObject 4.5.8//EN
CALSCALE:GREGORIAN
BEGIN:VEVENT
UID:sabre-vobject-b3f730fa-3acd-4b90-9123-5a8e612054ab
DTSTAMP:20260419T145510Z
SUMMARY:Exkursion am Münsterlinger Seeufer
DESCRIPTION:Der Spazierweg entlang des Münsterlinger Seeufers gehört zu d
 en schönsten Strecken am Bodensee und ist bei Wandernden beliebt. Nebst d
 em herrlichen Ausblick auf den See gibt es unterwegs vieles zu entdecken: 
 Spuren aus der Eiszeit\, Relikte aus dem Zweiten Weltkrieg\, historische u
 nd moderne Bauten sowie eine vielfältige Tier- und Pflanzenwelt.\nWolf-Di
 eter Burkhard begleitet Interessierte auf einer Wanderung vom Hafen Altnau
  bis zum Badeplatz Münsterlingen und macht unterwegs auf manche Besonderh
 eit aufmerksam. Wettergerechte Kleidung und gutes Schuhwerk werden empfohl
 en.\nBei schlechtem Wetter wird der Anlass auf Samstag\, 2. Mai 2026 versc
 hoben.\nAuskunft am Samstagmorgen von 9 bis 10 Uhr über 071 695 21 02.
LOCATION:Münsterlingen\, 8596 Münsterlingen
DTSTART;TZID=Europe/Zurich:20260425T141500
DTEND;TZID=Europe/Zurich:20260425T163000
ORGANIZER:Kultur- und Naturführungen Münsterlingen
END:VEVENT
END:VCALENDAR
