BEGIN:VCALENDAR
VERSION:2.0
PRODID:-//Sabre//Sabre VObject 4.5.8//EN
CALSCALE:GREGORIAN
BEGIN:VEVENT
UID:sabre-vobject-419c9f95-fbe8-434d-ba6f-94b92a9be631
DTSTAMP:20260419T145600Z
SUMMARY:Klosterkirche – einmal anders
DESCRIPTION:Diese besondere Führung lädt dazu ein\, die Klosterkirche Mü
 nsterlingen aus einer neuen Perspektive kennenzulernen. Hugo Bertet und Wo
 lf-Dieter Burkhard zeigen und erklären ausgewählte Kuriositäten und ver
 borgene Schätze des barocken Bauwerks. Die Katakombenheiligen\, die Nonne
 ngruft und das kunstvolle Chorgestühl sind sakrale und kunsthistorische S
 chätze der Gemeinde Münsterlingen.
LOCATION:Klosterkirche Münsterlingen\, Klosteranlage\, 8596 Münsterlingen
DTSTART;TZID=Europe/Zurich:20260627T140000
DTEND;TZID=Europe/Zurich:20260627T160000
ORGANIZER:Kultur- und Naturführungen Münsterlingen
END:VEVENT
END:VCALENDAR
