BEGIN:VCALENDAR
VERSION:2.0
PRODID:-//Sabre//Sabre VObject 4.5.8//EN
CALSCALE:GREGORIAN
BEGIN:VEVENT
UID:sabre-vobject-4d09496a-090e-4140-9a65-935e5f89c407
DTSTAMP:20260419T145600Z
SUMMARY:Der Feldhof in Scherzingen - wo wachsen Gemüse und Früchte?
DESCRIPTION:Süsse Erdbeeren\, frischer Salat\, leuchtende Tomaten und knac
 kige Zucchini – welche Feldfrüchte wachsen zu welcher Jahreszeit? Die T
 eilnehmenden erleben mit ihren Kindern eine spannende Entdeckungsreise auf
  dem Feldhof Scherzingen\, einem Demeter-Betrieb unter Leitung der Familie
  Tschudin-Rascher. Seit den 1980er-Jahren steht der Hof für nachhaltige L
 andwirtschaft und zählt Mitarbeitende\, Lernende und Teilnehmende zu sein
 em Team.
LOCATION:Scherzingen\, 8596 Scherzingen
DTSTART;TZID=Europe/Zurich:20260829T160000
DTEND;TZID=Europe/Zurich:20260829T173000
ORGANIZER:Kultur- und Naturführungen Münsterlingen
END:VEVENT
END:VCALENDAR
