BEGIN:VCALENDAR
VERSION:2.0
PRODID:-//Sabre//Sabre VObject 4.5.8//EN
CALSCALE:GREGORIAN
BEGIN:VEVENT
UID:sabre-vobject-77ab39ea-22aa-405e-bfe2-334094789689
DTSTAMP:20260421T032847Z
SUMMARY:Jane Mumford - Leben!
DESCRIPTION:Hach\, die Jugend! Wären wir nicht alle gerne wieder 16 Jahre 
 alt? Nein\, nicht alle. Jane Mumford wär’s lieber nicht. Als Kind schie
 n ihr die Welt noch magisch\, aber kaum verliess sie die Grundschule besta
 nd ihre Welt nur noch aus mühsamen Dingen wie: cool-sein-wollen\, dazugeh
 ören-müssen\, mithalten-zu-versuchen\, die grosse Liebe finden… und ir
 gendwann muss ja auch noch was erreicht werden\, bevor man stirbt!\nSo vie
 l zu tun!! Vor lauter Überforderung verbrachte sie ihre Teenie-Jahre zur
 ückgezogen als stepptanzende Gothic-Rockerin und fragt sich nun\, ob sie 
 je ganz aus diesem Teenie-Zustand herausgewachsen ist? Denn all die Selbst
 zweifel\, der Weltschmerz und das «Overthinking» verfolgen sie noch heut
 e… in den ganz\, ganz dunklen Schatten der Nacht.\n«Den eigenen Sarg au
 f die Bühne schleppen\, sich selber als nervende Goth-Teenagerin vorführ
 en\, Gene Kelly in Wort und Step erklären - das macht nur Jane Mumford. S
 aulustig\, friendly British und als soloperformende Autorin hierzulande ei
 nzigartig.»\\n– Viktor Giacobbo\nJane Mumford hat für dieses zweite So
 loprogramm den Swiss-Comedy-Award 2025 in der Sparte "Solo" gewonnen.
LOCATION:Bild-Rauschen-Studio\, Industriestrasse 6a\, 8575 Bürglen TG
DTSTART;TZID=Europe/Zurich:20261017T201500
DTEND;TZID=Europe/Zurich:20261017T201500
ORGANIZER:Verein Kulturrausch
END:VEVENT
END:VCALENDAR
