BEGIN:VCALENDAR
VERSION:2.0
PRODID:-//Sabre//Sabre VObject 4.5.8//EN
CALSCALE:GREGORIAN
BEGIN:VEVENT
UID:sabre-vobject-c09d5c2e-56af-43a5-ac70-9e74c82e9e3f
DTSTAMP:20260419T145559Z
SUMMARY:1. Schlusskonzert
DESCRIPTION:Die Studentinnen und Studenten zeigen zum Abschluss der Kurswoc
 he ihr Können und die Früchte des Unterichts.
LOCATION:Evangelische Kirche Uttwil\, Kirchweg 1\, 8592 Uttwil
DTSTART;TZID=Europe/Zurich:20260829T170000
DTEND;TZID=Europe/Zurich:20260829T190000
ORGANIZER:Uttwiler Meisterkurse
END:VEVENT
END:VCALENDAR
