BEGIN:VCALENDAR
VERSION:2.0
PRODID:-//Sabre//Sabre VObject 4.5.8//EN
CALSCALE:GREGORIAN
BEGIN:VEVENT
UID:sabre-vobject-891a2bd7-9752-48f5-ba77-31b611701b46
DTSTAMP:20260419T145406Z
SUMMARY:2. Schlusskonzert
DESCRIPTION:Die Studenten und Studentinnen zeigen zum Abschluss der Kurswoc
 he ihr Können und die Früchte des Unterrichts.
LOCATION:Evangelische Kirche Uttwil\, Kirchweg 1\, 8592 Uttwil
DTSTART;TZID=Europe/Zurich:20260830T110000
DTEND;TZID=Europe/Zurich:20260830T130000
ORGANIZER:Uttwiler Meisterkurse
END:VEVENT
END:VCALENDAR
