BEGIN:VCALENDAR
VERSION:2.0
PRODID:-//Sabre//Sabre VObject 4.5.8//EN
CALSCALE:GREGORIAN
BEGIN:VEVENT
UID:sabre-vobject-dff742a0-72b8-44d6-86c9-64d27673ce98
DTSTAMP:20260425T223647Z
SUMMARY:Vortrag mit Marcel Paa
DESCRIPTION:Im Jahre 2015 startete Marcel Paa seinen YouTube Kanal „einfa
 ch backen“ mit dem Ziel\, so vielen Leuten wie nur möglich das Backen n
 äher zu bringen. Sein Wissen hat sich in der Praxis bestens bewährt und 
 es funktioniert zu einhundert Prozent.\nEr ist gelernter Bäcker und Kondi
 tor und hält eine kurze Einführung zu seinem Buch\, Präsentiert seine B
 rote und erklärt die Besonderheiten und seine Backmethoden.\nAnschliessen
 d findet eine Degustation mit 5 Broten statt und es bleibt Zeit für Frage
 n und signieren der Bücher. 
LOCATION:Bibliothek Sirnach\, Winterthurerstrasse 15\, 8370 Sirnach
DTSTART;TZID=Europe/Zurich:20260429T190000
DTEND;TZID=Europe/Zurich:20260429T210000
ORGANIZER:Bibliothek
END:VEVENT
END:VCALENDAR
