BEGIN:VCALENDAR
VERSION:2.0
PRODID:-//Sabre//Sabre VObject 4.5.8//EN
CALSCALE:GREGORIAN
BEGIN:VEVENT
UID:sabre-vobject-2cd12c90-c698-45a4-82fd-27416ebfba27
DTSTAMP:20260424T034438Z
SUMMARY:Adventsmarkt Bischofszell
DESCRIPTION:Vom 27. bis 29. November 2026\, wird die 30. Austragung\, ein J
 ubiläum\, unseres Adventsmarktes von vielen Besucherinnen und Besucher in
  historischen Städtchen Bischofszell besucht\, um den wahren Zauber der A
 dventszeit zu spüren. Das traditionelle Highlight zieht viele Gäste aus 
 nah und fern in die Altstadt von Bischofszell\, um die tolle Atmosphäre u
 nd das einzigartige Ambiente am Markt zu geniessen.\nDie über 120 Marktst
 ände sind verteilt aufgestellt\, in der Altstadt\, für Besucher kinderwa
 genfreundlich\, vom Grubplatz-West über Bogenturm\, Museumsgarten\, Markt
 gasse\, Hirschenplatz\, Tuchgasse bis zur oberen Kirchgasse. Besonders her
 vorzuheben sind die traumhaften Weihnachts- und Geschenkideen und die beso
 nders weihnachtlich geschmückten Warenstände.\nDie offizielle Eröffnung
  findet am\, Freitag\, 27. November um 18.00 Uhr vor dem Rathaus statt\, m
 it offizieller Begrüssungsansprache\, musikalische Umrahmung\, Einzug der
  Bischöfe\, den Samichläusen mit ihren Eseln und den Engelsmädchen\, di
 e eine spezielle Überraschung bereithalten werden.\nBesonderes Highlight 
 für die Kinder ist das schöne Kinderkarussell und die wunderschöne Weih
 nachtskrippe mit den lebensgrossen Künstlerfiguren. Auch für Speis und T
 rank sorgen acht heimelige Adventsbeizli am Adventsmarkt.\nAuch für Musik
 freund ist gesorgt\, denn am Samstag\, 28. November\, um 18.00 Uhr\, biete
 t der Verein Adventsmarkt Bischofszell\, ein  einmaliges Gratis-Konzert i
 n der kath. Stiftskirche\, St. Pelagius\, Bischofszell\, statt. Der spezie
 lle Zauber des gemischten Chors\, wird die Gäste auf die bevorstehende We
 ihnachtszeit einstimmen.\nDer Präsident und der Vorstand des Adventsmarkt
 es Bischofszell\, laden auf einen festlichen\, gemütlichen und geselligen
  Besuch in die historische Altstadt\, ein.
LOCATION:Bischofszell\, 9220 Bischofszell
DTSTART;TZID=Europe/Zurich:20261127T170000
DTEND;TZID=Europe/Zurich:20261127T210000
ORGANIZER:Adventsmarkt Bischofszell
END:VEVENT
END:VCALENDAR
