BEGIN:VCALENDAR
VERSION:2.0
PRODID:-//Sabre//Sabre VObject 4.5.8//EN
CALSCALE:GREGORIAN
BEGIN:VEVENT
UID:sabre-vobject-7c8a5108-faef-48df-8c8e-bbbdc0461d2c
DTSTAMP:20260419T145336Z
SUMMARY:Nachtwächter- und Türmerzunft
DESCRIPTION:Seit 2004 lebt eine alte Tradition wieder auf. Die historischen
  Nachtwächter und Türmer sind in den dunklen Gassen und Strassen unterwe
 gs. Zu hören den legendären Stundenruf: "Hört ihr Leut und lasst euch s
 agen...\, Geschichten aus dem städtischen Leben sowie Sagenumwobenes und 
 allerlei Gruseliges aus dem Mittelalter.\nGruppenrundgänge mit Fackeln f
 ühren durch die dunkelsten Ecken der Stadt\, mit dem Nachtwächter-Stunde
 nruf\, mit Gruseligem\, zudem erzählen die Wächter über die alte Gerich
 tsbarkeit und über die unehrenhafte Arbeit des Henkers.\nBeliebt sind auc
 h die freien Rundgänge "Am Vorabend vor Neumond"\, immer um 21.00 Uhr am 
 Bogenturm Bischofszell. Zuerst geht man in die Vorstadt\, wo Fenster und T
 üren zu kontrollieren sind und Geschichten aus dem Mittelalter erzählt w
 erden. Anschliessend geht man in die Altstadt wo von der scheussliche Pest
  berichtet wird.\nInformieren Sie sich über: www.nachtwaechter.ch
LOCATION:Bogenturm\, Bahnhofstrasse 5\, 9220 Bischofszell
DTSTART;TZID=Europe/Zurich:20260624T210000
DTEND;TZID=Europe/Zurich:20260624T221500
ORGANIZER:Nachtwächter- und Türmerzunft
END:VEVENT
END:VCALENDAR
