BEGIN:VCALENDAR
VERSION:2.0
PRODID:-//Sabre//Sabre VObject 4.5.8//EN
CALSCALE:GREGORIAN
BEGIN:VEVENT
UID:sabre-vobject-cf154843-db85-4ae2-8aaa-e59a2f8d1477
DTSTAMP:20260419T145518Z
SUMMARY:Die Sonne\, der Mond und die Sterne
DESCRIPTION:Gesungen werden Lieder in vier Sprachen\, aus drei musikalische
 n Epochen: Madrigale aus der Spätrenaissance\, Lieder aus der deutschen u
 nd französischen Romantik\, sowie amerikanische Jazz-Standards und Lieder
  aus Musicals. Alle Stücke nehmen Bezug auf unsere Himmelskörper. \nSte
 fan Kägi begleitet am Klavier. 
LOCATION:Aula Sandbänkli\, Sandbänkli 5\, 9220 Bischofszell
DTSTART;TZID=Europe/Zurich:20260607T110000
DTEND;TZID=Europe/Zurich:20260607T121500
ORGANIZER:BLECH\, der Bischofszeller Lehrer*innen Chor
END:VEVENT
END:VCALENDAR
