BEGIN:VCALENDAR
VERSION:2.0
PRODID:-//Sabre//Sabre VObject 4.5.8//EN
CALSCALE:GREGORIAN
BEGIN:VEVENT
UID:sabre-vobject-4678615d-45d5-4f44-b192-15381bebdd54
DTSTAMP:20260419T145517Z
SUMMARY:Die Sonne\, der Mond und die Sterne
DESCRIPTION:Gesungen werden Lieder in vier Sprachen\, aus drei musikalische
 n Epochen: Madrigale aus der Spätrenaissance\, Lieder aus der deutschen u
 nd französischen Romantik\, sowie amerikanische Jazz-Standards und Lieder
  aus Musicals. Alle Stücke nehmen Bezug auf unsere Himmelskörper. \nSte
 fan Kägi begleitet am Klavier. 
LOCATION:Kulturforum Amriswil\, Bahnhofstrasse 22 22\, 8580 Amriswil
DTSTART;TZID=Europe/Zurich:20260613T200000
DTEND;TZID=Europe/Zurich:20260613T211500
ORGANIZER:BLECH\, der Bischofszeller Lehrer*innen Chor
END:VEVENT
END:VCALENDAR
