BEGIN:VCALENDAR
VERSION:2.0
PRODID:-//Sabre//Sabre VObject 4.5.8//EN
CALSCALE:GREGORIAN
BEGIN:VEVENT
UID:sabre-vobject-641822e9-cae7-4f7c-876c-dcb79bcbb1b5
DTSTAMP:20260419T151935Z
SUMMARY:Susanna Dutly Baur
DESCRIPTION:Geboren 1958 und aufgewachsen in Aadorf und Weinfelden\, lebt d
 ie Künstlerin heute auf dem Seerücken.\nErst nach der beruflichen Tätig
 keit als Betriebsökonomin wurde die Malerei entdeckt. Seit rund acht Jahr
 en entsteht Arbeit mit Pinsel und Farbe in einer eigenen Ausdrucksform. Ke
 nntnisse wurden durch Kurse\, Weiterbildungswochen bei erfahrenen Dozent:i
 nnen und autodidaktisches Lernen erworben.\nInspiration ist häufig die La
 ndschaft. Für die abstrakten Bilder werden hauptsächlich Acryl- und Ölf
 arben auf Leinwand oder Papier verwendet.\nIm Atelier an der Gündelharter
 strasse 2d in Hörhausen wird mit Pigment\, Kreide\, Farbsprays und Stifte
 n experimentiert. Besuche sind nach telefonischer Voranmeldung unter 079 6
 64 08 11 möglich.
LOCATION:Wöschhüsli\, Bachstrasse 1\, 8526 Oberneunforn
DTSTART;TZID=Europe/Zurich:20260515T180000
DTEND;TZID=Europe/Zurich:20260515T210000
ORGANIZER:Kulturkommission Neunforn
END:VEVENT
END:VCALENDAR
