BEGIN:VCALENDAR
VERSION:2.0
PRODID:-//Sabre//Sabre VObject 4.5.8//EN
CALSCALE:GREGORIAN
BEGIN:VEVENT
UID:sabre-vobject-e7e74d2d-63af-4889-95e5-7f2f0d6f81ea
DTSTAMP:20260419T145518Z
SUMMARY:Nicolas Altstaedt - scordatura
DESCRIPTION:Nicolas Altstaedt \,Violoncello\n \nJohann Sebastian Bach\\nSu
 ite Nr. 5 für Violoncello c-Moll BWV 1011\nHenry Dutilleux\\nTrois Stroph
 es sur le nom de Sacher für Violoncello solo\nZoltán Kodály\\nSonate f
 ür Violoncello solo op. 8\n \nDie Werke von J.S. Bach\, H. Dutilleux und
  Z. Kodály zeigen musikalische Bewegung in ganz unterschiedlichen Dimensi
 onen – von der archaischen Tiefe der c-Moll-Suite Bachs in scordierter S
 timmung über Dutilleux’ Klangfarben zwischen Traum und Realität bis hi
 n zur rhythmischen Expressivität von Kodálys Sonate.\\nEin Programm zwis
 chen Innerlichkeit und Virtuosität schwebend.
LOCATION:Klosterkirche Münsterlingen\, Klosteranlage\, 8596 Münsterlingen
DTSTART;TZID=Europe/Zurich:20260514T113000
DTEND;TZID=Europe/Zurich:20260514T123000
ORGANIZER:Hochuli-Konzert
END:VEVENT
END:VCALENDAR
