BEGIN:VCALENDAR
VERSION:2.0
PRODID:-//Sabre//Sabre VObject 4.5.8//EN
CALSCALE:GREGORIAN
BEGIN:VEVENT
UID:sabre-vobject-67394ae3-082f-421d-ae02-921ab53630d6
DTSTAMP:20260419T145510Z
SUMMARY:Barnabás Kelemen & Nicolas Altstaedt - Im Dialog der Saiten
DESCRIPTION:Barnabás Kelemen\, Violine\\nNicolas Altstaedt\, Violoncello\n
  \nBéla Bartók\\nSolosonate für Violine\nZoltán Kodály\\nDuo für Vi
 oline und Violoncello op. 7\n \nDer ungarische Geiger Barnabás Kelemen u
 nd sein langjähriger Kammermusikpartner Nicolas Altstaedt präsentieren z
 wei Meisterwerke ungarischer Komponisten: Bartóks Solosonate für Violine
  beeindruckt mit kraftvollen Rhythmen\, expressiver Tiefe und folkloristis
 chen Anklängen. Kodálys einziges Duo für Violine und Violoncello entfal
 tet einen lebendigen Dialog zwischen den Instrumenten.\\nMusik voller Ausd
 ruck und engstem Zusammenmusizieren.
LOCATION:Klosterkirche Münsterlingen\, Klosteranlage\, 8596 Münsterlingen
DTSTART;TZID=Europe/Zurich:20260514T150000
DTEND;TZID=Europe/Zurich:20260514T160000
ORGANIZER:Hochuli-Konzert
END:VEVENT
END:VCALENDAR
