BEGIN:VCALENDAR
VERSION:2.0
PRODID:-//Sabre//Sabre VObject 4.5.8//EN
CALSCALE:GREGORIAN
BEGIN:VEVENT
UID:sabre-vobject-2d69013c-38e2-4d6e-9716-d21dc892f38e
DTSTAMP:20260419T145518Z
SUMMARY:Konzert V - Ensemble Klassik Nuevo "Bach bis Balkan"
DESCRIPTION:Dieses Konzert findet im Programm des Bodenseefestivals statt u
 nd zeigt\, was in „Klassik Nuevo“ alles steckt.\nDie Reise beginnt mi
 t den zeitlosen Klängen von Johann Sebastian Bach.\nWeitere Stationen fü
 hren über Klassik und Romantik bis hin zu zeitgenössischen Strömungen. 
 Dabei bewegt sich das Ensemble nicht nur durch verschiedene Epochen\, sond
 ern auch durch unterschiedliche Kulturen und Länder.\nDer Weg führt von 
 Europa in fernere Regionen\, nimmt folkloristische Einflüsse auf\, lässt
  sich von Jazz und Tango inspirieren und taucht schließlich in die Welt d
 er modernen Musik ein.\nDie Reise endet in der Gegenwart mit Stücken aus 
 der Popmusik\, darunter auch Werke von Michael Jackson. Ein Konzert voller
  Dynamik\, Vielfalt und musikalischer Bewegung.
LOCATION:Psychiatrische Klinik\, Seeblickstrasse 3\, 8596 Münsterlingen
DTSTART;TZID=Europe/Zurich:20260508T193000
DTEND;TZID=Europe/Zurich:20260508T213000
ORGANIZER:Gesellschaft für Musik und Literatur
END:VEVENT
END:VCALENDAR
