BEGIN:VCALENDAR
VERSION:2.0
PRODID:-//Sabre//Sabre VObject 4.5.8//EN
CALSCALE:GREGORIAN
BEGIN:VEVENT
UID:sabre-vobject-bfe064c6-063a-4853-9682-a91bf4d481b3
DTSTAMP:20260419T145600Z
SUMMARY:Tanz dich frei - offenes Tanzangebot
DESCRIPTION:Zu wechselnden Klängen - mal ruhig\, mal kraftvoll - den eigen
 en Bewegungsimpulsen folgen. In Kontakt kommen mit dem Inneren Erleben und
  sich selbst. \nZu Beginn gibt es Zeit für Achtsamkeit und Körperwahrne
 hmung. Danach darf sich der Tanz ganz natürlich entfalten. Am Ende wird e
 s still\, damit sich das Erlebte setzen kann. \nKeine Vorkenntnisse nöti
 g.\nEinzelne Stunden frei besuchbar.
LOCATION:dilmove - Räumlichkeiten Inside Balance\, Bahnhofstrasse 40\, 859
 0 Romanshorn
DTSTART;TZID=Europe/Zurich:20260608T183000
DTEND;TZID=Europe/Zurich:20260608T194500
ORGANIZER:dilmove
END:VEVENT
END:VCALENDAR
