BEGIN:VCALENDAR
VERSION:2.0
PRODID:-//Sabre//Sabre VObject 4.5.8//EN
CALSCALE:GREGORIAN
BEGIN:VEVENT
UID:sabre-vobject-345d3407-fd76-4cbc-a7d0-df1e18388289
DTSTAMP:20260419T145510Z
SUMMARY:Aus dem Vollen schöpfen
DESCRIPTION:In den letzten 10 Jahren ist das Haus zur Glocke zu einer Art S
 peicher geworden\, einem Ort\, in dem Bilder temporär Wohnsitz nehmen\, i
 n den sich die Spuren und Erinnerungen gezeigter Werke eingeschrieben habe
 n. So können Kurator:innen aus dem Vollen schöpfen\, wenn es darum geht\
 , für die Jubiläumsausstellung vier Künstler:innen erneut einzuladen\
 , die alle schon einmal im Haus zur Glocke zu Gast waren.\nDie Kurator:inn
 en fragen mit der Ausstellung nach der Weiterentwicklung des künstlerisc
 hen Werks\, nach dem Speicher\, der Fülle an Material und Ideen\, woraus
  die Künstler:innen Neues schöpfen. Die unterschiedlichen Perspektiven 
 bewegen sich zwischen Kontinuität und Experiment\, zwischen Rückkopplun
 g an Bestehendes und Aufbruch in neue Suchbewegungen.\nmit Arbeiten von:\\
 nGerber Bardill (Gabriela Gerber &amp\; Lukas Bardill)\\nSarah Hugentobler
 \\nClaudia Schmid\\nWerner Widmer
LOCATION:Haus zur Glocke\, Seestrasse 91\, 8266 Steckborn
DTSTART;TZID=Europe/Zurich:20260426T150000
DTEND;TZID=Europe/Zurich:20260426T150000
ORGANIZER:Haus zur Glocke
END:VEVENT
END:VCALENDAR
