BEGIN:VCALENDAR
VERSION:2.0
PRODID:-//Sabre//Sabre VObject 4.5.8//EN
CALSCALE:GREGORIAN
BEGIN:VEVENT
UID:sabre-vobject-a6e25c1b-4036-4c81-a305-1e02d87a9a4b
DTSTAMP:20260424T020449Z
SUMMARY:Orgelkonzert zu Christi Himmelfahrt
DESCRIPTION:Peter Planyavsky studierte in Wien Orgel und Kirchenmusik. Nach
  dem Abschluss seiner Studien praktizierte er ein Jahr lang bei einem Orge
 lbauer. 1969 bis 2004 war er am Wiener Stephansdom tätig (1983 bis 1990 a
 ls gesamtverantwortlicher Dommusikdirektor). 1980 bis 2012 war Peter Plany
 avsky Professor für Orgel und Improvisation an der Wiener Musikhochschule
 \, ausserdem 1996 bis 2003 Leiter der Abteilung für Kirchenmusik. \nHinw
 eis:\\nPeter Planyavsky gibt am Freitag\, 15. Mai 2026 einen Kurs für Org
 anistinnen und Organisten. Informationen dazu sind im Gesamtprogramm 2026 
 der Frauenfelder Abendmusiken zu finden.
LOCATION:Evangelische Stadtkirche Frauenfeld\, Freiestrasse 12/14\, 8500 Fr
 auenfeld
DTSTART;TZID=Europe/Zurich:20260514T170000
DTEND;TZID=Europe/Zurich:20260514T170000
ORGANIZER:Frauenfelder-Abendmusiken
END:VEVENT
END:VCALENDAR
