BEGIN:VCALENDAR
VERSION:2.0
PRODID:-//Sabre//Sabre VObject 4.5.8//EN
CALSCALE:GREGORIAN
BEGIN:VEVENT
UID:sabre-vobject-b2b3dcef-6979-467b-8269-be33c67d1b08
DTSTAMP:20260421T123818Z
SUMMARY:AYØ – Reggaeton • Amapiano • Afrobeats
DESCRIPTION:AYØ bringt eine neue Generation von Urban Nights nach Weinfeld
 en.\nLine-Up:\\n  Bavo\\n  Rizzle\\n  L-Dee\\n  Tamino Primo\nFacebook
 : /ayoclub.ch\\nInstagram: /ayoclub.ch
LOCATION:Firehouse Weinfelden\, Amriswilerstrasse 57\, 8570 Weinfelden
DTSTART;TZID=Europe/Zurich:20260425T220000
DTEND;TZID=Europe/Zurich:20260426T040000
ORGANIZER:AYO
END:VEVENT
END:VCALENDAR
