BEGIN:VCALENDAR
VERSION:2.0
PRODID:-//Sabre//Sabre VObject 4.5.8//EN
CALSCALE:GREGORIAN
BEGIN:VEVENT
UID:sabre-vobject-441d587e-a23d-4ee6-913b-d3db34df7fe9
DTSTAMP:20260421T105338Z
SUMMARY:Culcha Candela
DESCRIPTION:Mit ihrem einzigartigen Mix aus Reggae\, Dancehall\, Hip-Hop un
 d Latin-Sounds haben sie  die Charts erobert und sich eine treue Fangemei
 nde erspielt. Hits wie „Hamma!“\, „Monsta“ oder „Berlin City Gir
 l“ sind aus den Radios und von den Tanzflächen nicht mehr wegzudenken u
 nd versprechen eine Setlist voller unvergesslicher Momente.
LOCATION:Schlossplatz Meersburg\, Schlossplatz 9\, 88709 Meersburg
DTSTART;TZID=Europe/Zurich:20260611T200000
DTEND;TZID=Europe/Zurich:20260611T200000
ORGANIZER:AC Live
END:VEVENT
END:VCALENDAR
