BEGIN:VCALENDAR
VERSION:2.0
PRODID:-//Sabre//Sabre VObject 4.5.8//EN
CALSCALE:GREGORIAN
BEGIN:VEVENT
UID:sabre-vobject-dbc300a2-a40b-404c-ba53-f08d3693f791
DTSTAMP:20260421T105244Z
SUMMARY:Good Voices Konzert
DESCRIPTION:Ein Abend mit Energie\, Gänsehaut und Momenten\, bei denen das
  Publikum plötzlich merkt: “Den Song kenne ich ja”.
LOCATION:Evangelische Kirche Altnau ・\, Lothalde 20\, 8595 Altnau
DTSTART;TZID=Europe/Zurich:20260425T190000
DTEND;TZID=Europe/Zurich:20260425T190000
ORGANIZER:PopVoices Thurgau
END:VEVENT
END:VCALENDAR
