BEGIN:VCALENDAR
VERSION:2.0
PRODID:-//Sabre//Sabre VObject 4.5.8//EN
CALSCALE:GREGORIAN
BEGIN:VEVENT
UID:sabre-vobject-8c911198-8ac0-4d40-b1c3-42d96d5ed4f2
DTSTAMP:20260421T111544Z
SUMMARY:Öffentliche Kunstführung
DESCRIPTION:Jeden Sonntag um 15.00 Uhr wird dazu eingeladen\, die aktuellen
  Ausstellungen im Forum Würth Rorschach auf einem geführten Rundgang zu 
 erkunden. Dabei gibt es spannende Hintergrundinformationen zu den Highligh
 ts der Ausstellungen\, Einblicke in die neuesten Tendenzen der Kunst und i
 nteressante Fakten über die Künstlerinnen und Künstler.\\n\\nTreffpunkt
  und Bezahlung im Kunstshop.
LOCATION:Forum Würth Rorschach\, Churerstrasse 10\, 9400 Rorschach
DTSTART;TZID=Europe/Zurich:20260802T150000
DTEND;TZID=Europe/Zurich:20260802T154500
ORGANIZER:Forum Würth Rorschach
END:VEVENT
END:VCALENDAR
