BEGIN:VCALENDAR
VERSION:2.0
PRODID:-//Sabre//Sabre VObject 4.5.8//EN
CALSCALE:GREGORIAN
BEGIN:VEVENT
UID:sabre-vobject-d9e9197a-0aa3-4bf0-bcad-b2763f8c0ce4
DTSTAMP:20260421T123818Z
SUMMARY:Führung durch die Ausstellung «Isabelle Krieg – unendlich endli
 ch»
DESCRIPTION:Das Kunstmuseum Thurgau rückt durch seine Verortung in einem e
 hemaligen Kloster immer wieder überzeitliche Fragen in den Fokus – solc
 he stellt auch Isabelle Krieg seit Jahrzehnten mit ihrem künstlerischen S
 chaffen: sie beleuchtet in vielen Langzeitprojekten\, wie sich im Alltägl
 ichen das Überzeitliche spiegelt\, Lebenszyklen und Vergänglichkeit im S
 trom der Zeit.\\n\n\\n\nEinstündiger Rundgang durch die aktuelle Ausstell
 ung im Kunstmuseum Thurgau.
LOCATION:Kunstmuseum Thurgau\, Kartause Ittingen\, 8532 Warth
DTSTART;TZID=Europe/Zurich:20260426T114500
DTEND;TZID=Europe/Zurich:20260426T124500
ORGANIZER:Kunstmuseum Thurgau
END:VEVENT
END:VCALENDAR
