BEGIN:VCALENDAR
VERSION:2.0
PRODID:-//Sabre//Sabre VObject 4.5.8//EN
CALSCALE:GREGORIAN
BEGIN:VEVENT
UID:sabre-vobject-3f93e3be-fc87-4262-a7e2-cd03fecd619a
DTSTAMP:20260421T105338Z
SUMMARY:Öffentlicher Seniorenrundgang
DESCRIPTION:Gemeinsame Bildbetrachtungen und persönlicher Austausch stehen
  dabei im Mittelpunkt. Erinnerungen\, Gedanken und Erfahrungen finden hier
  genauso ihren Platz\, wie das Staunen und Entdecken. Erleben Sie Kunst au
 f Augenhöhe und im angemessenen Tempo – ganz ohne Eile!\\n\\nTreffpunkt
  und Bezahlung im Kunstshop.
LOCATION:Forum Würth Rorschach\, Churerstrasse 10\, 9400 Rorschach
DTSTART;TZID=Europe/Zurich:20260701T140000
DTEND;TZID=Europe/Zurich:20260701T150000
ORGANIZER:Forum Würth Rorschach
END:VEVENT
END:VCALENDAR
