BEGIN:VCALENDAR
VERSION:2.0
PRODID:-//Sabre//Sabre VObject 4.5.8//EN
CALSCALE:GREGORIAN
BEGIN:VEVENT
UID:sabre-vobject-467450b2-c58f-4bed-b878-6b649f63072c
DTSTAMP:20260421T123818Z
SUMMARY:Künstler:innengespräch in der Vebikus Kunsthalle Schaffhausen
DESCRIPTION:Die Ausstellung ist von 12 - 16 Uhr geöffnet.
LOCATION:Vebikus Kunsthalle Schaffhausen\, Baumgartenstrasse 19\, 8200 Scha
 ffhausen
DTSTART;TZID=Europe/Zurich:20260426T140000
DTEND;TZID=Europe/Zurich:20260426T153000
ORGANIZER:Vebikus Kunsthalle Schaffhausen
END:VEVENT
END:VCALENDAR
