BEGIN:VCALENDAR
VERSION:2.0
PRODID:-//Sabre//Sabre VObject 4.5.8//EN
CALSCALE:GREGORIAN
BEGIN:VEVENT
UID:sabre-vobject-a9b2bcde-7ce4-4e20-b3fa-5158c7985f75
DTSTAMP:20260422T090350Z
SUMMARY:yara
DESCRIPTION:Worum es yara so wirklich geht\, wollen sie gar nicht wissen. S
 ind es durchfeierte Nächte\, das Rauchen\, die Liebe oder die Sehnsucht n
 ach irgendwie allem davon.\\nMal als hedonistische Weltschmerz-Ballade ode
 r als wilde Dada-Einlage auf der Bühne. Für Sänger Jakob gibt es nur da
 s Extreme\, das kleine Glück im Alltag schmeißt er gerne von sich. Diese
  Suche übersetzt er mit Gio\, Lisa und Jacque ganz unprätentiös in deut
 schsprachigen Indie-Rock.
LOCATION:Konstanz Konzertmuschel\, Stadtgarten 1\, 78462 Konstanz
DTSTART;TZID=Europe/Zurich:20260523T220000
DTEND;TZID=Europe/Zurich:20260523T220000
ORGANIZER:Kulturladen Konstanz e. V.
END:VEVENT
END:VCALENDAR
