BEGIN:VCALENDAR
VERSION:2.0
PRODID:-//Sabre//Sabre VObject 4.5.8//EN
CALSCALE:GREGORIAN
BEGIN:VEVENT
UID:sabre-vobject-8713f273-045a-44b1-bd1d-ae26bdb3cc73
DTSTAMP:20260421T004141Z
SUMMARY:Estermann & Rosenzweig - Ewig währt am längsten
DESCRIPTION:Mit musikalischem Können\, Inspiration und Humor bereichern Es
 termann &amp\; Rosenzweig die hiesigen Kulturschauplätze. Ihr neues Progr
 amm heisst "Ewig währt am längsten". Das Repertoire ist ernsthaft unterh
 altsam\, mit leichtfüssigem Tiefgang. Alte und neue Lieder\, Texte und Gi
 tarrenmusik\, Werbeeinlagen und Gastauftritte von längst Verstorbenen\; e
 in Stück Gegenwart für die Ewigkeit.
LOCATION:goldener dachs\, Schulstrasse 1\, 8570 Weinfelden
DTSTART;TZID=Europe/Zurich:20260425T201500
DTEND;TZID=Europe/Zurich:20260425T214500
ORGANIZER:Klaus Estermann
END:VEVENT
END:VCALENDAR
