BEGIN:VCALENDAR
VERSION:2.0
PRODID:-//Sabre//Sabre VObject 4.5.8//EN
CALSCALE:GREGORIAN
BEGIN:VEVENT
UID:sabre-vobject-cb55edbd-0dbd-4e9f-9952-ba34df7e901a
DTSTAMP:20260420T175005Z
SUMMARY:Konzert 6: Oliver Schnyder & Loewe Quartett
DESCRIPTION:Gemeinsam ins Finale: Saisonabschluss mit Oliver Schnyder und d
 em Loewe Quartett.\nMit einem musikalischen Höhepunkt endet die fünfte K
 onzertsaison der Arboner Konzertreihe „Klassik im Schloss“. Im Schloss
  Arbon zu Gast sind das Loewe Quartett und der Pianist Oliver Schnyder\, e
 iner der prägenden Pianisten der Schweiz\, der im Anschluss an das Konzer
 t im Gespräch mit dem Kulturjournalisten Martin Preisser (St.Galler Tagbl
 att) Einblicke in sein künstlerisches Schaffen gibt.\nDas Programm des Ab
 ends vereint zwei Meisterwerke der Kammermusik: das Streichquartett D-Dur 
 op. 18 Nr. 3 von Ludwig van Beethoven und das Klavierquintett A-Dur op. 81
  von Antonín Dvořák. \nBeethovens Quartett gehört zwar zu seinen früh
 en Werken\, doch von einem „Anfängerstück“ kann keine Rede sein. Vie
 lmehr begegnet uns hier ein junger Komponist\, der die klassische Traditio
 n souverän beherrscht und sie zugleich mit Witz\, Energie und überrasche
 nden Wendungen belebt. Ein Werk voller Frische und Einfallsreichtum.\nEine
 n ganz eigenen Charakter entfaltet im zweiten Teil des Programms Dvořáks
  Klavierquintett. Seine Entstehung ist ein schönes Beispiel für künstle
 rischen Perfektionismus oder vielleicht auch für kreatives Chaos: Weil ih
 m sein frühes Quintett op. 5 nicht mehr gefiel\, komponierte er 1887 kurz
 erhand ein neues\, in gleicher Besetzung und sogar in derselben Tonart. Ei
 ner anderen Anekdote zufolge war das ursprüngliche Werk jedoch schlicht u
 nauffindbar\, sodass er es kurzerhand ersetzte. So oder so\, es hat sich g
 elohnt: Das Ergebnis zählt zu den schönsten Werken der Kammermusik. Mit 
 seinen eingängigen Melodien\, der warmen Klangfülle und den typisch böh
 mischen Mittelsätzen „Dumka“ und „Furiant“ steckt es voller Leben
 \, Kontraste und Emotion. \nDas anschliessende Künstlergespräch mit Oli
 ver Schnyder sowie ein Apéro sind den Mitgliedern des Freundeskreises vor
 behalten\, dem man auch am Konzertabend unkompliziert beitreten kann. Alle
  übrigen Gäste sind herzlich eingeladen\, beim traditionellen Apéro den
  Abend gemeinsam ausklingen zu lassen.
LOCATION:Schloss Arbon - Landenbergsaal\, Schloss 1\, 9320 Arbon
DTSTART;TZID=Europe/Zurich:20260426T170000
DTEND;TZID=Europe/Zurich:20260426T180000
ORGANIZER:Klassik im Schloss  Ostinato Festival
END:VEVENT
END:VCALENDAR
