BEGIN:VCALENDAR
VERSION:2.0
PRODID:-//Sabre//Sabre VObject 4.5.8//EN
CALSCALE:GREGORIAN
BEGIN:VEVENT
UID:sabre-vobject-62d356bd-e201-42d6-9e60-e99336770630
DTSTAMP:20260421T031102Z
SUMMARY:Meine Freundin Conni 2
DESCRIPTION:Im Haus der Klawitters herrscht Aufbruchsstimmung. Conni ist au
 fgeregt. Ihre Eltern fahren mit ihrem Bruder zu Onkel Albert. Conni wäre 
 nur zu gerne mitgefahren\, aber dann würde sie Semires Geburtstagsparty v
 erpassen. Natürlich bleiben Conni und Kater Mau nicht allein zu Hause\, d
 enn Opa Willi ist gekommen und Anna und Simon dürfen sogar bei ihr übern
 achten.\nDoch dann landet ein verletzter Kranich bei ihnen und braucht ihr
 e Hilfe. Denn nicht nur die Verletzung macht Kranich Klaus zu schaffen\, a
 uch der spießige Nachbar Herr Oswald\, der seinen astrein gepflegten Rose
 ngarten in Gefahr sieht\, ist hinter Klaus her. Gut\, dass Conni und ihre 
 Freunde Unterstützung von der Tierschützerin Renata und der Polizistin S
 elena bekommen. Zum großen Missfallen von Kater Mau und Anna dreht sich a
 ber nun alles nur noch um den lustigen Vogel. Werden Conni und ihre Freund
 e es gemeinsam schaffen\, dass Klaus rechtzeitig gesund wird\, um mit den 
 Zugvögeln nach Süden zu fliegen?
LOCATION:Cinewil\, Bahnhofplatz 7\, 9500 Wil SG
DTSTART;TZID=Europe/Zurich:20260510T100000
DTEND;TZID=Europe/Zurich:20260510T100000
ORGANIZER:Cinewil
END:VEVENT
END:VCALENDAR
