BEGIN:VCALENDAR
VERSION:2.0
PRODID:-//Sabre//Sabre VObject 4.5.8//EN
CALSCALE:GREGORIAN
BEGIN:VEVENT
UID:sabre-vobject-b930b695-d8a4-4940-b666-4c7ed71fb706
DTSTAMP:20260421T031044Z
SUMMARY:Vernissage Vier Seiten Leben
DESCRIPTION:Beim Durchstöbern des Familienerbes stösst Dorothee Kohler au
 f eine unbekannte Tante und ihre dramatische Geschichte in psychiatrischen
  Anstalten des frühen 20. Jahrhunderts. Anhand einer kargen Klinikakte wi
 ll sie Marthas Fall nachvollziehen. Darin ist von einer «unfügsamen» Pa
 tientin die Rede\, die sich wehrte. Es finden sich weitere Dokumente\, die
  fragwürdige Behandlungsmethoden im frühen 20. Jahrhundert offenlegen\
 , besonders im Umgang mit weiblichen Patientinnen. \\n\\nModeration: Ronja
  Stahl\nPräsentiert von: Dorothee Kohler\, geboren und aufgewachsen in St
 . Gallen\, studierte Germanistik\, Anglistik und Philosophie in Zürich 
 und Tübingen. Nach ihrer Promotion unterrichtete sie Deutsch am Gymnasium
 . Sie veröffentlichte literarische Kurztexte in «Entwürfe. Zeitschrift 
 für Literatur». Dorothee Kohler lebt in Zürich.
LOCATION:Orelll Füssli Wil\, Obere Bahnhofstrasse 23\, 9500 Wil SG
DTSTART;TZID=Europe/Zurich:20260424T190000
DTEND;TZID=Europe/Zurich:20260424T190000
ORGANIZER:Limmat Verlag
END:VEVENT
END:VCALENDAR
