BEGIN:VCALENDAR
VERSION:2.0
PRODID:-//Sabre//Sabre VObject 4.5.8//EN
CALSCALE:GREGORIAN
BEGIN:VEVENT
UID:sabre-vobject-4b2c2505-d373-4db6-b510-d6bd0db4978c
DTSTAMP:20260421T031120Z
SUMMARY:Billie Eilish – Hit Me Hard and Soft: The Tour
DESCRIPTION:Aufgenommen während ihrer ausverkauften Welttournee\, bringt 
 «Billie Eilish – Hit Me Hard and Soft: The Tour» (Live in 3D) ein inno
 vatives neues Konzerterlebnis einer der gefeiertsten und erfolgreichsten K
 ünstlerinnen ihrer Generation auf die grosse Leinwand. Der Film wird in i
 mmersivem 3D präsentiert und wurde von den Oscar®-Preisträger:innen Jam
 es Cameron und Billie Eilish inszeniert.
LOCATION:Cinewil\, Bahnhofplatz 7\, 9500 Wil SG
DTSTART;TZID=Europe/Zurich:20260507T203000
DTEND;TZID=Europe/Zurich:20260507T203000
ORGANIZER:Cinewil
END:VEVENT
END:VCALENDAR
