BEGIN:VCALENDAR
VERSION:2.0
PRODID:-//Sabre//Sabre VObject 4.5.8//EN
CALSCALE:GREGORIAN
BEGIN:VEVENT
UID:sabre-vobject-b9d982d8-06c7-4a49-9920-61abe2908b4a
DTSTAMP:20260421T031101Z
SUMMARY:Lesung von und mit Richard Böck -        Bis er anfing\, sich zu w
 ehren
DESCRIPTION:Für Eltern\, Lehrkräfte und alle\, die Kinder und Jugendliche
  begleiten. \nOrell Füssli Wil bringt einige Exemplare mit - Teilnehmend
 e können ein Buch kaufen und von Richard Böck persönlich signieren lass
 en. \nRichard Böck\, Orell Füssli Wil und die Stadtbibliothek freuen si
 ch auf einen interessanten Abend. 
LOCATION:Stadtbibliothek Wil\, Marktgasse 88\, 9500 Wil
DTSTART;TZID=Europe/Zurich:20260507T190000
DTEND;TZID=Europe/Zurich:20260507T200000
ORGANIZER:Stadtbibliothek
END:VEVENT
END:VCALENDAR
