BEGIN:VCALENDAR
VERSION:2.0
PRODID:-//Sabre//Sabre VObject 4.5.8//EN
CALSCALE:GREGORIAN
BEGIN:VEVENT
UID:sabre-vobject-524d291c-db15-4a59-b05b-df50b5adef85
DTSTAMP:20260420T141148Z
SUMMARY:Märliumzug
DESCRIPTION:Tägerwilen wird zur Märliwelt: Zum 100-jährigen Jubiläum de
 s Märliumzugs ziehen liebevoll gestaltete Märchenwagen durch das Dorf. V
 ereine\, Familien und Gruppen erwecken bekannte Geschichten zum Leben – 
 mit viel Kreativität\, Handarbeit und Freude.\\n\\nOb Froschkönig\, Hän
 sel und Gretel oder die Bremer Stadtmusikanten – entlang der Strecke ent
 steht eine besondere Atmosphäre\, die Generationen verbindet und zum Stau
 nen einlädt.\\n\\nDer Märliumzug findet an zwei Sonntagen statt und biet
 et ein Erlebnis für Gross und Klein. Ein Anlass voller Fantasie\, Begegnu
 ngen und lebendiger Dorfkultur.
LOCATION:8274 Tägerwilen
DTSTART;TZID=Europe/Zurich:20260906T140000
DTEND;TZID=Europe/Zurich:20260906T170000
ORGANIZER:Verein Märliumzug 2026
END:VEVENT
END:VCALENDAR
