BEGIN:VCALENDAR
VERSION:2.0
PRODID:-//Sabre//Sabre VObject 4.5.8//EN
CALSCALE:GREGORIAN
BEGIN:VEVENT
UID:sabre-vobject-8b65142d-a1f3-4dda-a231-be61729966de
DTSTAMP:20260421T031153Z
SUMMARY:LooT mit Händl Klaus
DESCRIPTION:Ausserdem zählt er zu den wichtigsten Opernlibrettisten der Ge
 genwart und spielte nach einer Schauspielausbildung nicht nur am Wiener Sc
 hauspielhaus\, sondern auch in mehreren Filmen\, u. a. von Michael Haneke 
 oder Jessica Hausner. Der Sound von Händl Klaus’ gefeierten Bühnentex
 ten ist einzigartig: zart und rätselhaft\, kraftvoll und verstörend.\nDe
 r am Bielersee lebende Österreicher ist ein Meister der Suggestion\, bei 
 ihm ist das Ungesagte das eigentliche Ereignis. Ausgehend von seinem Stü
 ck Dunkel lockende Welt sprechen Anya Schutzbach und Martin Bieri mit Hän
 dl Klaus über die Kunst der Andeutung und das\, was unter der Sprache li
 egt.
LOCATION:Lokremise\, Grünbergstrasse 7\, 9000 St. Gallen
DTSTART;TZID=Europe/Zurich:20260507T200000
DTEND;TZID=Europe/Zurich:20260507T200000
ORGANIZER:Konzert und Theater St.Gallen
END:VEVENT
END:VCALENDAR
