BEGIN:VCALENDAR
VERSION:2.0
PRODID:-//Sabre//Sabre VObject 4.5.8//EN
CALSCALE:GREGORIAN
BEGIN:VEVENT
UID:sabre-vobject-5378d194-0172-46ff-a5ef-263014c22235
DTSTAMP:20260421T031202Z
SUMMARY:Frühlingsmarkt Kafi
DESCRIPTION:Zwischen den Blumen laden lauschige Plätzli zum Verweilen und 
 Geniessen ein. Es gibt frischen Kafi und feinen Kuchen aus der Backstube. 
 Mit dabei: verschiedene Labels mit ihrem Handwerk – Papeterie\, Schmuck\
 , Keramik\, Dekoartikel\, Kleider\, Accessoires\, Kerzen\, Honig\, Oliven
 öl und Wein. Ebenso erhältlich: Sträusse to go.
LOCATION:8561 Ottoberg
DTSTART;TZID=Europe/Zurich:20260426T100000
DTEND;TZID=Europe/Zurich:20260426T160000
ORGANIZER:Esther Hausammann
END:VEVENT
END:VCALENDAR
