BEGIN:VCALENDAR
VERSION:2.0
PRODID:-//Sabre//Sabre VObject 4.5.8//EN
CALSCALE:GREGORIAN
BEGIN:VEVENT
UID:sabre-vobject-0fc143a7-cb05-4c13-bd31-072532a8ae21
DTSTAMP:20260421T031338Z
SUMMARY:Pizza\, Pasta\, Mord - Ein DinnerKrimi
DESCRIPTION:Es spielen: Simone Appel\, Susanne von Fioreschy-Weinfeld\, Mau
 ro Galati\, Germaine Heri\, Erich Hollenstein\, Manuela Hollenweger\, Paul
 i Schmidig und Marius Sverrisson\nSeit Generationen sind die Familien Carb
 one und Caduff erbitterte Feinde. Bei der Beerdigung des verehrten Don Pad
 rone treffen sie erstmals seit Jahren wieder aufeinander. Die Stimmung ist
  explosiv\, offene Rechnungen liegen in der Luft. Und noch bevor der Sarg 
 geschlossen wird\, zerreisst ein lauter Schuss die trauernde Stille. Spät
 estens jetzt ist klar: Die Vendetta dieser mafiösen Familien ist alles an
 dere als überwunden.\nTeilnehmende geraten selbst ins Visier der Clans un
 d tauchen tief in die italianità ein. Zwischen Vespa\, Grappa und dunkler
  Sonnenbrille erlebt das Publikum kulinarische Höhepunkte und hilft der P
 olizei\, einen ebenso perfiden wie gefährlichen Mordfall zu lösen.\nAlle
  Vorstellungen in Schweizer Mundart.
LOCATION:Gasthof zum goldenen Kreuz\, Zürcherstrasse 134\, 8500 Frauenfeld
DTSTART;TZID=Europe/Zurich:20270214T170000
DTEND;TZID=Europe/Zurich:20270214T170000
ORGANIZER:DinnerKrimi
END:VEVENT
END:VCALENDAR
