BEGIN:VCALENDAR
VERSION:2.0
PRODID:-//Sabre//Sabre VObject 4.5.8//EN
CALSCALE:GREGORIAN
BEGIN:VEVENT
UID:sabre-vobject-83fb966d-38d2-4ea5-9184-f9287694e319
DTSTAMP:20260422T142805Z
SUMMARY:Pup Quiz
DESCRIPTION:In 2er bis 5er-Gruppen tritt man gegeneinander an und nutzt die
  Schwarmintelligenz um Fragen zu Sport\, Gesellschaft\, Musik\, Politik\, 
 Filme und aktuellem Geschehen zu beantworten. Also am besten mit Teammitgl
 iedern antreten\, von denen alle in einer jeweils anderen Kategorie Besche
 id wissen – oder einfach mit Leuten\, die Lust auf einen Abend mit kniff
 ligen Fragen und gekühlten Getränken haben. Am Schluss winkt dem Gewinne
 rteam eine Urkunde\, ein kleiner Pokal und der Respekt der anderen. Denn S
 pass haben sowieso alle.
LOCATION:Restaurant Eintracht Kirchberg\, Neudorfstrasse 5\, 9533 Kirchberg
  SG
DTSTART;TZID=Europe/Zurich:20260530T200000
DTEND;TZID=Europe/Zurich:20260530T200000
ORGANIZER:Restaurant Eintracht Kirchberg
END:VEVENT
END:VCALENDAR
