BEGIN:VCALENDAR
VERSION:2.0
PRODID:-//Sabre//Sabre VObject 4.5.8//EN
CALSCALE:GREGORIAN
BEGIN:VEVENT
UID:sabre-vobject-3d4cfab4-a4a3-496d-92d7-31fc44d11ec7
DTSTAMP:20260421T123714Z
SUMMARY:Entrümpelungsparty Kult-X
DESCRIPTION:Der Anlass würdigt die gemeinsame Zeit sowie das Engagement de
 r vielen Menschen\, Vereine und Projekte\, die das Kult-X seit seiner Grü
 ndung geprägt haben.\nAuf dem Programm stehen Flohmarkt\, Kleidertausch\,
  Kinderprogramm\, Essen\, Drinks\, Tanz\, Konzerte und eine besondere Vers
 teigerung. Neben Objekten aus dem Haus kommen dabei auch ausgewählte Ange
 bote unter den Hammer – beispielsweise eine private Klavier-Matinée mit
  kleinem Apéro. Anschliessend lädt die Disco zum Tanzen ein.\nZeitplan\n
 ab 12 Uhr: \\nFlohmarkt\, Kleidertausch\, Kinder-Olympiade (Ludothek)\, Em
 panadas und äthiopisches Essen mit Trösch reist um die Welt\, Kuchenstan
 d mit WG-Landhaus. Zu den Konzerten: Cocktail-Night mit Drinkery\\n\\n13.3
 0 Uhr: \\nKinder-Tanzperformance der Musikschule Kreuzlingen\\n\\n15.30 Uh
 r: \\nVersteigerung von Objekten\, Darbietungen und weiteren Überraschung
 en\\n\\n17 Uhr: Tanzperformance der Musikschule Kreuzlingen\\n\\n19.30 Uhr
 : \\nKonzert: Verbrennung 3. Grades\\n\\n20.30 Uhr: \\nKonzert: 3YOONI\\n\
 \nanschliessend: Disco mit Ferienvertretung &amp\; der laser weib. \\n\\n
 Es wird darum gebeten\, wenn möglich mit ÖV oder Velo anzureisen. Das Ku
 lt-X ist aktuell noch nicht vollständig rollstuhlgerecht. Bei Fragen zur 
 Zugänglichkeit oder wenn Unterstützung gebraucht wird: kultur@kult-x.ch\
 n–––––––––––––––––––––\nZu den B
 ands:\n3YOONI\nAls eine in Baghdad (IRQ) geborene und als Kind in die Schw
 eiz geflüchtete Person\, geht es 3YOONI um die kritische Durchleuchtung v
 on Konzepten wie Identität\, Sprache\, Rassismus und Orientalismus. Yassi
 n Mahdi ist in der irakischen Hauptstadt Bagdad geboren. Aufgrund des Krie
 ges fliehen seine Eltern mit seiner kleinen Schwester und ihm aus dem Irak
  und kommen in die Schweiz\, nach Graubünden. Hier erlebt er als Person o
 f Color Erfahrungen des Otherings. So überrascht es nicht\, dass es in se
 inem Musikprojekt 3YOONI um die kritische Durchleuchtung von Konzepten wie
  Identität\, Sprache\, Rassismus und Orientalismus geht. Dinge\, mit dene
 n er sich in den vergangen Jahren im Studium\, der Arbeit aber aber auch i
 m Alltag tiefergehend auseinandergesetzt hat und ihn bis heute noch umtrei
 ben. Musikalisch treffen dabei elektronische Beats und Synthesizer auf tra
 ditionell arabische Rhythmen\, eine Oud und verträumten Gesang in irakisc
 h-arabischer Sprache.\nVerbrennung 3. Grades\nVerbrennung 3. Grades (V3G) 
  aka Salomé Käsemodel (2000 in Frauenfeld) ist Videografin\, Musikerin 
 und Filmstudentin an der Zürcher Hochschule der Künste. Nach Jahren hint
 er der Kamera wagt sie sich nun auch musikalisch ins Rampenlicht. Ihr Live
 -Debüt gab sie 2024 als Support der Schlager-Ikone Dagobert. In ihren Arb
 eiten verhandelt sie Themen wie Katholizismus\, Queerness\, Internetkultur
 \, Wut und nicht zuletzt eine gesunde Portion Hass auf das Patriarchat.
LOCATION:Kulturzentrum Kult-X\, Hafenstrasse 8\, 8280 Kreuzlingen
DTSTART;TZID=Europe/Zurich:20260530T120000
DTEND;TZID=Europe/Zurich:20260531T000000
ORGANIZER:Kult-X
END:VEVENT
END:VCALENDAR
