BEGIN:VCALENDAR
VERSION:2.0
PRODID:-//Sabre//Sabre VObject 4.5.8//EN
CALSCALE:GREGORIAN
BEGIN:VEVENT
UID:sabre-vobject-2549868e-94da-473a-95a5-f80fea3e653b
DTSTAMP:20260422T143114Z
SUMMARY:Hike & Taste - Thurgauer Genusswanderung
DESCRIPTION:Für alle\, die gutes Essen\, spannende Weine und Bewegung an d
 er frischen Luft lieben: Die Genusswanderung führt über rund 11km durch 
 die wunderschönen Weinfelder Rebhänge und verbindet kulinarische Highlig
 hts mit echten Genussmomenten.\\n\\nAn fünf Stopps erwartet die Teilnehme
 nden regionale Produzentinnen und Produzenten mit charakterstarken Weinen 
 und authentischen Spezialitäten. Das Ticket enthält Rucksäckli\, Vouche
 r-Booklet\, erfrischendes Getränk und ein persönliches Weinglas für die
  gesamte Route.\\n\\nDie Startzeit kann online gewählt werden. Rund 6–8
  Stunden voller Bewegung\, Genuss und schöner Momente mit den Lieblings
 menschen.\nVerschiedene Zeitfenster ab 9:00 Uhr bis 13:15 Uhr
LOCATION:8570 Weinfelden
DTSTART;TZID=Europe/Zurich:20260822T000000
DTEND;TZID=Europe/Zurich:20260822T000000
ORGANIZER:Thurgau Tourismus
END:VEVENT
END:VCALENDAR
