BEGIN:VCALENDAR
VERSION:2.0
PRODID:-//Sabre//Sabre VObject 4.5.8//EN
CALSCALE:GREGORIAN
BEGIN:VEVENT
UID:sabre-vobject-b17055a4-771b-4e74-bc64-1f249a000e95
DTSTAMP:20260422T143233Z
SUMMARY:Kreuzlinger Seenachtfest Fantastical
DESCRIPTION:Rund um den fantastischen Feuerwerk-Höhepunkt am Samstagabend\
 , wartet von Freitag bis Sonntag auch in diesem Jahr wieder ein Programm v
 oller Auftritte\, Spass und Spiel für Kinder sowie vielfältige Streetfoo
 d-Leckereien. DJs und Live-Musik laden zudem Tag und Nacht zum Tanzen ein.
  Im Kinderland begeistern attraktive Aktivitäten die kleinen Gäste des F
 amilienevents direkt am Bodenseeufer\, das traditionell den krönenden Abs
 chluss der Thurgauer Sommerferien bildet.\\n\\nDas gesamte Programm gibt e
 s ab Ende Juli auf fantastical.ch/programm.
LOCATION:Hafenplatz\, 8280 Kreuzlingen
DTSTART;TZID=Europe/Zurich:20260807T000000
DTEND;TZID=Europe/Zurich:20260807T000000
ORGANIZER:Fantastical
END:VEVENT
END:VCALENDAR
