BEGIN:VCALENDAR
VERSION:2.0
PRODID:-//Sabre//Sabre VObject 4.5.8//EN
CALSCALE:GREGORIAN
BEGIN:VEVENT
UID:sabre-vobject-fe6ef74b-674c-4c40-9067-6e0f5477d089
DTSTAMP:20260422T143013Z
SUMMARY:Spring Days Musiklager - Abschlusskonzert
DESCRIPTION:Ein abwechslungsreiches Programm für Streichorchester. Von Wer
 ken von W.A.Mozart über die festliche Polonaise militaire  von F. Chopin
 \, das bekannte Tonight aus der Westside Story von L.Bernstein bis zum s
 chwungvollen Walzer Nr.2 von D. Schostakowitsch.
LOCATION:Reformierte Kirche\, Hauptstrasse\, 9656 Alt St. Johann
DTSTART;TZID=Europe/Zurich:20260517T170000
DTEND;TZID=Europe/Zurich:20260517T183000
ORGANIZER:Artes Juvenes
END:VEVENT
END:VCALENDAR
