BEGIN:VCALENDAR
VERSION:2.0
PRODID:-//Sabre//Sabre VObject 4.5.8//EN
CALSCALE:GREGORIAN
BEGIN:VEVENT
UID:sabre-vobject-1d312272-ae1c-4ab2-9e60-45ba5cb4e0e7
DTSTAMP:20260421T182508Z
SUMMARY:Persönlich
DESCRIPTION:Die Radio-Talkshow «Persönlich» wird live aus dem Kino „Ro
 xy" gesendet | Der Anlass ist öffentlich und der Eintritt ist frei | Kein
 e Sitzplatz-Reservation | Türöffnung um 09:00 Uhr\nIn einer offenen Gesp
 rächsatmosphäre reden die Gäste und über ihr Leben\, ihren Beruf\, ihr
 e Wünsche\, Interessen\, Ansichten und Meinungen. \n«Persönlich» ist 
 kein heisser Stuhl und auch keine Informationssendung\, sondern ein Gespr
 äch zur Person und über ihr Leben.\nIm «Persönlich» sind Gäste einge
 laden\, die aufgrund ihrer Lebenserfahrungen etwas zu sagen haben\, das ü
 ber den Tag hinaus Gültigkeit hat.\nDie Sendung «persönlich» feiert ih
 ren 50. Geburtstag und ist Gewinnerin des Suisse Podcast Awards 2026.
LOCATION:Kino Roxy\, Salmsacherstrasse 1\, 8590 Romanshorn
DTSTART;TZID=Europe/Zurich:20260510T100000
DTEND;TZID=Europe/Zurich:20260510T110000
ORGANIZER:Roxy
END:VEVENT
END:VCALENDAR
