BEGIN:VCALENDAR
VERSION:2.0
PRODID:-//Sabre//Sabre VObject 4.5.8//EN
CALSCALE:GREGORIAN
BEGIN:VEVENT
UID:sabre-vobject-61e30069-c64f-42b4-a53b-23ddcac31e28
DTSTAMP:20260422T142403Z
SUMMARY:Peter Fratton
DESCRIPTION:Von Reinhard Kahl | Dokumentation mit Peter Fratton | Deutschla
 nd 2026 | Deutsch | ab 6 Jahren | 89 Minuten\nBildungspionier Peter Fratto
 n und der Filmemacher Reinhard Kahl werden an diesem Abend anwesend sein.\
 nWas ist Lernen? Wie entstehen Neugier\, Mut – und manchmal sogar Vorfre
 ude auf das eigene Leben? In Romanshorn haben vor mehr als vierzig Jahren 
 neue Wege des Lernens ihren Anfang genommen. Von hier gingen Impulse aus\,
  die weit über die Hafenstadt und die Schweiz hinaus ihre Wirkung entfalt
 et haben und bis heute Bildungsdiskussionen prägen. \nDer Hamburger Film
 emacher Reinhard Kahl hat diesen Weg über mehrere Jahre begleitet und dar
 aus eine eindrucksvolle Dokumentation geschaffen. Der Film erzählt von ei
 nem pädagogischen Aufbruch\, der Menschen bis heute inspiriert.
LOCATION:Kino Roxy\, Salmsacherstrasse 1\, 8590 Romanshorn
DTSTART;TZID=Europe/Zurich:20260507T193000
DTEND;TZID=Europe/Zurich:20260507T213000
ORGANIZER:Roxy
END:VEVENT
END:VCALENDAR
