BEGIN:VCALENDAR
VERSION:2.0
PRODID:-//Sabre//Sabre VObject 4.5.8//EN
CALSCALE:GREGORIAN
BEGIN:VEVENT
UID:sabre-vobject-10b5750f-d501-4a68-9dae-c8191712c9ac
DTSTAMP:20260422T141502Z
SUMMARY:Barbara Buser
DESCRIPTION:Von Gabriele Schärer | Dokumentation | Schweiz 2025 | Dialekt 
 | ab14 Jahren | 120 Minuten\nDie preisgekrönte Basler Architektin Barbara
  Buser rettet Gebäude vor dem Abriss und baut diese mit wiederverwendetem
  Material um. Sie verwandelt ehemalige Industrieareale zu urbanen Lebensr
 äumen\, die für einen sorgfältigen Umgang mit unserer Umwelt und dem Mi
 teinander stehen.\nAls Frau\, die in einer Männerdomäne erfolgreich ihre
 n eigenen Weg geht\, ist Barbara Buser Vorbild für die junge Generation\,
  die für eine nachhaltigere\, gerechtere Welt kämpft. Ausgezeichnet mit 
 allen wichtigen Architekturpreisen weltweit\, ist die Visionärin gefragt 
 bei allen Forschungszentren der Universitäten und Technischen Hochschulen
  in der Schweiz und weltweit.\nBarbara Buser ist die Pionierin der Nachhal
 tigkeit und beeindruckt durch ihre Weitsicht\, ihren Durchsetzungswillen u
 nd ihre unbändige Schaffenskraft. Sie hat Areale\, öffentliche Räume\, 
 Häuser und Plätze in Winterthur\, Basel und Zürich – um nur einige we
 nige Orte zu nennen – nachhaltig zu lebendigen und zukunftsweisenden Beg
 egnungsorten umgestaltet.\n2020 erhielt sie den Meret Oppenheim Preis. Sie
  studierte an der ETH und arbeitete in Kooperation mit der Technischen Hoc
 hschule im Sudan und Tanzania bevor sie in der Schweiz ihre Visionen für 
 zukünftiges Bauen anfing umzusetzen.\nBarbara Buser – Pionierin der Nac
 hhaltigkeit – ein Film\, der erstaunliches vermittelt\, inspiriert und z
 um Nachdenken anregt – all das mit viel Schwung\, Humor und Leichtigkeit
 .
LOCATION:Kino Roxy\, Salmsacherstrasse 1\, 8590 Romanshorn
DTSTART;TZID=Europe/Zurich:20260428T193000
DTEND;TZID=Europe/Zurich:20260428T220000
ORGANIZER:Roxy
END:VEVENT
END:VCALENDAR
