BEGIN:VCALENDAR
VERSION:2.0
PRODID:-//Sabre//Sabre VObject 4.5.8//EN
CALSCALE:GREGORIAN
BEGIN:VEVENT
UID:sabre-vobject-f12f7b3f-1821-456f-9f8d-c4f9d783160f
DTSTAMP:20260422T142924Z
SUMMARY:Haus Blaues Wunder
DESCRIPTION:Regie Milan Gather Bühne &amp\; Kostüme Phin Mindner Musik Jo
 nas Bolle\\nDramaturgie Annika Hilger\\nMit Jana Alexia Rödiger\, Sylvana
  Schneider\nEin Häuschen am Meer! Was für ein wunderbarer Gedanke\, dari
 n zu wohnen. Allerdings haben sich Herr Goldbeutel und Herr Pfefferkorn di
 eses Erlebnis irgendwie anders vorgestellt. Beide haben einen Kaufvertrag 
 für dasselbe Haus unterschrieben und bezahlt. Und stehen sich jetzt unver
 hofft genau dort gegenüber. Während Herr Pfefferkorn in Begleitung eines
  Eichhörnchens namens Badesalz mit nur einem Koffer einzieht\, verbarrika
 diert sich Herr Goldbeutel hinter einer Unmenge Möbel. Die Probleme sind 
 vorprogrammiert. Wer braucht wie viel Platz? Wem gehört nun das Haus? Ist
  so ein friedliches Zusammenleben überhaupt denkbar? Und: Wo ist eigentli
 ch das Meer?\nMilan Gather inszeniert dieses herrlich absurde Stück mit v
 iel Humor und Empathie. Dabei nimmt er die beiden Herren genau unter die L
 upe und schaut\, wie sich das Aufeinandertreffen von zwei unterschiedliche
 n Lebensstilen auf das jeweilige Verständnis von Besitz\, Neid und Solida
 rität auswirkt.
LOCATION:Werkstatt\, Inselgasse 2- 6\, 78462 Konstanz
DTSTART;TZID=Europe/Zurich:20260510T150000
DTEND;TZID=Europe/Zurich:20260510T160000
ORGANIZER:Theater Konstanz
END:VEVENT
END:VCALENDAR
