BEGIN:VCALENDAR
VERSION:2.0
PRODID:-//Sabre//Sabre VObject 4.5.8//EN
CALSCALE:GREGORIAN
BEGIN:VEVENT
UID:sabre-vobject-5e60d905-8bb8-4732-b525-700a83ffde18
DTSTAMP:20260422T143107Z
SUMMARY:Sonntagsmalen - Zeit für Farben. Zeit für dich.
DESCRIPTION:Für einmal musst nichts tun\, nichts organisieren\, nichts pla
 nen.\\nAlles ist bereit\, die Farben warten.\nAufatmen\, Moment geniessen 
 und mit Farben und Pinseln spielen.
LOCATION:Malatelier Christine Giger\, Bahnhofstrasse 29\, 9320 Arbon
DTSTART;TZID=Europe/Zurich:20260426T130000
DTEND;TZID=Europe/Zurich:20260426T170000
ORGANIZER:Christine Giger
END:VEVENT
END:VCALENDAR
