BEGIN:VCALENDAR
VERSION:2.0
PRODID:-//Sabre//Sabre VObject 4.5.8//EN
CALSCALE:GREGORIAN
BEGIN:VEVENT
UID:sabre-vobject-d6a3ba0e-ff4c-4719-975f-71f19a26f34e
DTSTAMP:20260422T143223Z
SUMMARY:Vier Seiten Leben
DESCRIPTION:Beim Durchstöbern des Familienerbes stösst Dorothee Kohler au
 f eine unbekannte Tante und ihre dramatische Geschichte in psychiatrischen
  Anstalten des frühen 20. Jahrhunderts. Anhand einer kargen Klinikakte wi
 ll sie Marthas Fall nachvollziehen. Darin ist von einer «unfügsamen» Pa
 tientin die Rede\, die sich wehrte. Es finden sich weitere Dokumente\, die
  fragwürdige Behandlungsmethoden im frühen 20. Jahrhundert offenlegen\
 , besonders im Umgang mit weiblichen Patientinnen. \\n\n\\n\nPräsentiert 
 von: Dorothee Kohler\, geboren und aufgewachsen in St. Gallen\, studiert
 e Germanistik\, Anglistik und Philosophie in Zürich und Tübingen. Nach i
 hrer Promotion unterrichtete sie Deutsch am Gymnasium. Sie veröffentlicht
 e literarische Kurztexte in «Entwürfe. Zeitschrift für Literatur». Dor
 othee Kohler lebt in Zürich.
LOCATION:Bücherladen Marianne Sax\, Zürcherstrasse 183\, 8500 Frauenfeld
DTSTART;TZID=Europe/Zurich:20260512T200000
DTEND;TZID=Europe/Zurich:20260512T200000
ORGANIZER:Limmat Verlag
END:VEVENT
END:VCALENDAR
