BEGIN:VCALENDAR
VERSION:2.0
PRODID:-//Sabre//Sabre VObject 4.5.8//EN
CALSCALE:GREGORIAN
BEGIN:VEVENT
UID:sabre-vobject-dc98bb24-e93f-4373-be4b-d9c4b1f09a2f
DTSTAMP:20260422T142945Z
SUMMARY:DAS TRÖSCH reist um die Welt - Rumänien
DESCRIPTION:Jeden Monat wird an einem anderen Ort Halt gemacht. Immer im Ge
 päck sind: landestypisches Essen und gelebte Traditionen. Ein Fest\, an d
 em alle teilhaben sollten\, die Freude an den verschiedenen Kulturen unser
 er Welt haben.\nWas in diesem Monat die Gäste erwartet\, wird zeitnah unt
 er https://dastroesch.ch/aktuelles bekannt gegeben.\nDas Projekt wird 2026
  unterstützt durch das Kantonale Integrationsprogramm 2024-2027.
LOCATION:Das Trösch\, Hauptstrasse 42\, 8280 Kreuzlingen
DTSTART;TZID=Europe/Zurich:20260612T183000
DTEND;TZID=Europe/Zurich:20260612T230000
ORGANIZER:Begegnungszentrum DAS TRÖSCH
END:VEVENT
END:VCALENDAR
